BEGIN:VCALENDAR
VERSION:2.0
PRODID:-//Alte Eisdiele - ECPv6.15.16//NONSGML v1.0//EN
CALSCALE:GREGORIAN
METHOD:PUBLISH
X-WR-CALNAME:Alte Eisdiele
X-ORIGINAL-URL:https://alte-eisdiele.de
X-WR-CALDESC:Veranstaltungen für Alte Eisdiele
REFRESH-INTERVAL;VALUE=DURATION:PT1H
X-Robots-Tag:noindex
X-PUBLISHED-TTL:PT1H
BEGIN:VTIMEZONE
TZID:Europe/Berlin
BEGIN:DAYLIGHT
TZOFFSETFROM:+0100
TZOFFSETTO:+0200
TZNAME:CEST
DTSTART:20250330T010000
END:DAYLIGHT
BEGIN:STANDARD
TZOFFSETFROM:+0200
TZOFFSETTO:+0100
TZNAME:CET
DTSTART:20251026T010000
END:STANDARD
BEGIN:DAYLIGHT
TZOFFSETFROM:+0100
TZOFFSETTO:+0200
TZNAME:CEST
DTSTART:20260329T010000
END:DAYLIGHT
BEGIN:STANDARD
TZOFFSETFROM:+0200
TZOFFSETTO:+0100
TZNAME:CET
DTSTART:20261025T010000
END:STANDARD
BEGIN:DAYLIGHT
TZOFFSETFROM:+0100
TZOFFSETTO:+0200
TZNAME:CEST
DTSTART:20270328T010000
END:DAYLIGHT
BEGIN:STANDARD
TZOFFSETFROM:+0200
TZOFFSETTO:+0100
TZNAME:CET
DTSTART:20271031T010000
END:STANDARD
END:VTIMEZONE
BEGIN:VEVENT
DTSTART;TZID=Europe/Berlin:20260603T150000
DTEND;TZID=Europe/Berlin:20260603T163000
DTSTAMP:20260420T143952
CREATED:20260319T151654Z
LAST-MODIFIED:20260319T151656Z
UID:881-1780498800-1780504200@alte-eisdiele.de
SUMMARY:Erzählcafé
DESCRIPTION:
URL:https://alte-eisdiele.de/angebot/erzaehlcafe-4/
LOCATION:Alte Eisdiele\, Heinrichstrasse 44\, Lachen-Speyerdorf\, 67435\, Germany
CATEGORIES:Offene Begenung
ATTACH;FMTTYPE=image/jpeg:https://alte-eisdiele.de/wp-content/uploads/2026/03/AE_ICT_EC_Terminbild_1600px-1.jpg
END:VEVENT
BEGIN:VEVENT
DTSTART;TZID=Europe/Berlin:20260608T140000
DTEND;TZID=Europe/Berlin:20260608T160000
DTSTAMP:20260420T143952
CREATED:20260319T151845Z
LAST-MODIFIED:20260319T151846Z
UID:883-1780927200-1780934400@alte-eisdiele.de
SUMMARY:Digitale Sprechstunde
DESCRIPTION:
URL:https://alte-eisdiele.de/angebot/digitale-sprechstunde-4/
LOCATION:Alte Eisdiele\, Heinrichstrasse 44\, Lachen-Speyerdorf\, 67435\, Germany
CATEGORIES:Beratung
ATTACH;FMTTYPE=image/jpeg:https://alte-eisdiele.de/wp-content/uploads/2026/03/AE_ICT_pixabay_app-2941194_1920.jpg
END:VEVENT
BEGIN:VEVENT
DTSTART;TZID=Europe/Berlin:20260612T150000
DTEND;TZID=Europe/Berlin:20260612T170000
DTSTAMP:20260420T143952
CREATED:20260319T150828Z
LAST-MODIFIED:20260319T150829Z
UID:875-1781276400-1781283600@alte-eisdiele.de
SUMMARY:Plauderbank
DESCRIPTION:Begegnung – Austausch – Zuhören
URL:https://alte-eisdiele.de/angebot/plauderbank-5/
LOCATION:Friedhof Lachen-Speyerdorf\, Goethestraße 37\, Lachen-Speyerdorf\, 67435\, Germany
CATEGORIES:Offene Begenung
ATTACH;FMTTYPE=image/jpeg:https://alte-eisdiele.de/wp-content/uploads/2026/03/AE_Plauderbank_HP_TerminBild.jpg
END:VEVENT
BEGIN:VEVENT
DTSTART;TZID=Europe/Berlin:20260617T093000
DTEND;TZID=Europe/Berlin:20260617T113000
DTSTAMP:20260420T143952
CREATED:20260331T095027Z
LAST-MODIFIED:20260331T095029Z
UID:982-1781688600-1781695800@alte-eisdiele.de
SUMMARY:Frühstückstreff
DESCRIPTION:Zurzeit nicht im Arbeitsleben?Egal aus welchem Grund – Sie sind herzlich willkommen. \n\n\n\nBei einem gemeinsamen Frühstück ist Raum für Begegnung\, Austausch und neue Kontakte. \n\n\n\nOffen. Unkompliziert. In Gemeinschaft. \n\n\n\nKostenfrei \n\n\n\nOhne Anmeldung
URL:https://alte-eisdiele.de/angebot/fruehstueckstreff-2/
LOCATION:Alte Eisdiele\, Heinrichstrasse 44\, Lachen-Speyerdorf\, 67435\, Germany
CATEGORIES:Offene Begenung
ATTACH;FMTTYPE=image/jpeg:https://alte-eisdiele.de/wp-content/uploads/2026/03/AE_Arbeit_HP_Terminbild-1600_1600px.jpg
ORGANIZER;CN="Regina Wilhelm":MAILTO:arbeitswelt@bistum-speyer.de
END:VEVENT
BEGIN:VEVENT
DTSTART;TZID=Europe/Berlin:20260617T193000
DTEND;TZID=Europe/Berlin:20260617T210000
DTSTAMP:20260420T143952
CREATED:20260319T152242Z
LAST-MODIFIED:20260319T152244Z
UID:887-1781724600-1781730000@alte-eisdiele.de
SUMMARY:Zwischen den Zeilen
DESCRIPTION:offener Buchclub
URL:https://alte-eisdiele.de/angebot/zwischen-den-zeilen-4/
LOCATION:Alte Eisdiele\, Heinrichstrasse 44\, Lachen-Speyerdorf\, 67435\, Germany
CATEGORIES:Offene Begenung
ATTACH;FMTTYPE=image/png:https://alte-eisdiele.de/wp-content/uploads/2026/02/AE_BC_Terminbild_1600px.png
END:VEVENT
BEGIN:VEVENT
DTSTART;TZID=Europe/Berlin:20260618T170000
DTEND;TZID=Europe/Berlin:20260618T200000
DTSTAMP:20260420T143952
CREATED:20260319T152507Z
LAST-MODIFIED:20260319T152508Z
UID:889-1781802000-1781812800@alte-eisdiele.de
SUMMARY:Meet @ Alte Eisdiele
DESCRIPTION:einfach treffen – offen für alle!
URL:https://alte-eisdiele.de/angebot/meet-alte-eisdiele-4/
LOCATION:Alte Eisdiele\, Heinrichstrasse 44\, Lachen-Speyerdorf\, 67435\, Germany
CATEGORIES:Lebensfreude,Offene Begenung
ATTACH;FMTTYPE=image/jpeg:https://alte-eisdiele.de/wp-content/uploads/2026/02/AE_Meet_HPL_500px.jpg
END:VEVENT
BEGIN:VEVENT
DTSTART;TZID=Europe/Berlin:20260625T173000
DTEND;TZID=Europe/Berlin:20260625T181500
DTSTAMP:20260420T143952
CREATED:20260319T152709Z
LAST-MODIFIED:20260319T152710Z
UID:891-1782408600-1782411300@alte-eisdiele.de
SUMMARY:Zwischen_Halt
DESCRIPTION:Begegnung – Impuls – Diskurs für Männer
URL:https://alte-eisdiele.de/angebot/zwischen_halt-7/
LOCATION:Alte Eisdiele\, Heinrichstrasse 44\, Lachen-Speyerdorf\, 67435\, Germany
CATEGORIES:Männerkreis
ATTACH;FMTTYPE=image/png:https://alte-eisdiele.de/wp-content/uploads/2026/02/AE_ZH_HP_Terminbild.png
END:VEVENT
BEGIN:VEVENT
DTSTART;TZID=Europe/Berlin:20260626T150000
DTEND;TZID=Europe/Berlin:20260626T170000
DTSTAMP:20260420T143952
CREATED:20260319T150943Z
LAST-MODIFIED:20260319T150945Z
UID:877-1782486000-1782493200@alte-eisdiele.de
SUMMARY:Plauderbank
DESCRIPTION:Begegnung – Austausch – Zuhören
URL:https://alte-eisdiele.de/angebot/plauderbank-6/
LOCATION:Friedhof Lachen-Speyerdorf\, Goethestraße 37\, Lachen-Speyerdorf\, 67435\, Germany
CATEGORIES:Offene Begenung
ATTACH;FMTTYPE=image/jpeg:https://alte-eisdiele.de/wp-content/uploads/2026/03/AE_Plauderbank_HP_TerminBild.jpg
END:VEVENT
END:VCALENDAR