BEGIN:VCALENDAR
VERSION:2.0
PRODID:-//Alte Eisdiele - ECPv6.15.16//NONSGML v1.0//EN
CALSCALE:GREGORIAN
METHOD:PUBLISH
X-WR-CALNAME:Alte Eisdiele
X-ORIGINAL-URL:https://alte-eisdiele.de
X-WR-CALDESC:Veranstaltungen für Alte Eisdiele
REFRESH-INTERVAL;VALUE=DURATION:PT1H
X-Robots-Tag:noindex
X-PUBLISHED-TTL:PT1H
BEGIN:VTIMEZONE
TZID:Europe/Berlin
BEGIN:DAYLIGHT
TZOFFSETFROM:+0100
TZOFFSETTO:+0200
TZNAME:CEST
DTSTART:20250330T010000
END:DAYLIGHT
BEGIN:STANDARD
TZOFFSETFROM:+0200
TZOFFSETTO:+0100
TZNAME:CET
DTSTART:20251026T010000
END:STANDARD
BEGIN:DAYLIGHT
TZOFFSETFROM:+0100
TZOFFSETTO:+0200
TZNAME:CEST
DTSTART:20260329T010000
END:DAYLIGHT
BEGIN:STANDARD
TZOFFSETFROM:+0200
TZOFFSETTO:+0100
TZNAME:CET
DTSTART:20261025T010000
END:STANDARD
BEGIN:DAYLIGHT
TZOFFSETFROM:+0100
TZOFFSETTO:+0200
TZNAME:CEST
DTSTART:20270328T010000
END:DAYLIGHT
BEGIN:STANDARD
TZOFFSETFROM:+0200
TZOFFSETTO:+0100
TZNAME:CET
DTSTART:20271031T010000
END:STANDARD
END:VTIMEZONE
BEGIN:VEVENT
DTSTART;TZID=Europe/Berlin:20260505T193000
DTEND;TZID=Europe/Berlin:20260505T210000
DTSTAMP:20260420T125327
CREATED:20260319T151442Z
LAST-MODIFIED:20260319T151444Z
UID:879-1778009400-1778014800@alte-eisdiele.de
SUMMARY:Nachhaltig handeln vor Ort
DESCRIPTION:Offenes Treffen des Teams
URL:https://alte-eisdiele.de/angebot/nachhaltig-handeln-vor-ort-2/
LOCATION:Alte Eisdiele\, Heinrichstrasse 44\, Lachen-Speyerdorf\, 67435\, Germany
CATEGORIES:Nachhaltigkeit
ATTACH;FMTTYPE=image/jpeg:https://alte-eisdiele.de/wp-content/uploads/2026/03/AE_ICT_Nachhaltig.jpg
END:VEVENT
BEGIN:VEVENT
DTSTART;TZID=Europe/Berlin:20260506T150000
DTEND;TZID=Europe/Berlin:20260506T163000
DTSTAMP:20260420T125327
CREATED:20260303T121851Z
LAST-MODIFIED:20260303T121854Z
UID:746-1778079600-1778085000@alte-eisdiele.de
SUMMARY:Erzählcafé
DESCRIPTION:
URL:https://alte-eisdiele.de/angebot/erzaehlcafe-3/
LOCATION:Alte Eisdiele\, Heinrichstrasse 44\, Lachen-Speyerdorf\, 67435\, Germany
CATEGORIES:Offene Begenung
ATTACH;FMTTYPE=image/png:https://alte-eisdiele.de/wp-content/uploads/2026/02/AE_EC_Terminbild_1600px-1.png
END:VEVENT
BEGIN:VEVENT
DTSTART;TZID=Europe/Berlin:20260507T193000
DTEND;TZID=Europe/Berlin:20260507T210000
DTSTAMP:20260420T125327
CREATED:20260303T122057Z
LAST-MODIFIED:20260303T122154Z
UID:748-1778182200-1778187600@alte-eisdiele.de
SUMMARY:Begleiten - Verstehen - Vorsorgen
DESCRIPTION:Dr. M. Hatzenbühler – Der natürliche Sterbeprozess
URL:https://alte-eisdiele.de/angebot/begleiten-verstehen-vorsorgen-3/
LOCATION:Alte Eisdiele\, Heinrichstrasse 44\, Lachen-Speyerdorf\, 67435\, Germany
CATEGORIES:Lebenslagen
ATTACH;FMTTYPE=image/png:https://alte-eisdiele.de/wp-content/uploads/2026/02/AE_Lebensende_HP_Terminbild.png
END:VEVENT
BEGIN:VEVENT
DTSTART;TZID=Europe/Berlin:20260508T150000
DTEND;TZID=Europe/Berlin:20260508T170000
DTSTAMP:20260420T125327
CREATED:20260319T150510Z
LAST-MODIFIED:20260319T150511Z
UID:871-1778252400-1778259600@alte-eisdiele.de
SUMMARY:Plauderbank
DESCRIPTION:Begegnung – Austausch – Zuhören
URL:https://alte-eisdiele.de/angebot/plauderbank-3/
LOCATION:Friedhof Lachen-Speyerdorf\, Goethestraße 37\, Lachen-Speyerdorf\, 67435\, Germany
CATEGORIES:Offene Begenung
ATTACH;FMTTYPE=image/jpeg:https://alte-eisdiele.de/wp-content/uploads/2026/03/AE_Plauderbank_HP_TerminBild.jpg
END:VEVENT
BEGIN:VEVENT
DTSTART;TZID=Europe/Berlin:20260509T100000
DTEND;TZID=Europe/Berlin:20260509T120000
DTSTAMP:20260420T125327
CREATED:20260303T122334Z
LAST-MODIFIED:20260303T122335Z
UID:750-1778320800-1778328000@alte-eisdiele.de
SUMMARY:Internationales Frauenfrühstück
DESCRIPTION:
URL:https://alte-eisdiele.de/angebot/internationales-frauenfruehstueck/
LOCATION:Alte Eisdiele\, Heinrichstrasse 44\, Lachen-Speyerdorf\, 67435\, Germany
CATEGORIES:Offene Begenung
ATTACH;FMTTYPE=image/png:https://alte-eisdiele.de/wp-content/uploads/2026/02/AE_IFF_HP_Terminbild-1.png
END:VEVENT
BEGIN:VEVENT
DTSTART;TZID=Europe/Berlin:20260511T140000
DTEND;TZID=Europe/Berlin:20260511T160000
DTSTAMP:20260420T125327
CREATED:20260303T153211Z
LAST-MODIFIED:20260303T153212Z
UID:752-1778508000-1778515200@alte-eisdiele.de
SUMMARY:Digitale Sprechstunde
DESCRIPTION:
URL:https://alte-eisdiele.de/angebot/digitale-sprechstunde-3/
LOCATION:Alte Eisdiele\, Heinrichstrasse 44\, Lachen-Speyerdorf\, 67435\, Germany
CATEGORIES:Beratung
ATTACH;FMTTYPE=image/png:https://alte-eisdiele.de/wp-content/uploads/2026/02/AE_DSS_HP_TB_pixabay_app-2941194_1920.png
END:VEVENT
BEGIN:VEVENT
DTSTART;TZID=Europe/Berlin:20260517T110000
DTEND;TZID=Europe/Berlin:20260517T170000
DTSTAMP:20260420T125327
CREATED:20260302T143517Z
LAST-MODIFIED:20260412T125742Z
UID:723-1779015600-1779037200@alte-eisdiele.de
SUMMARY:Offene Alte Eisdiele
DESCRIPTION:Offene Alte Eisdiele 2026. Alles dreht sich rund um Puzzles: zum Kaufen\, Gestalten und Mitpuzzeln
URL:https://alte-eisdiele.de/angebot/offene-alte-eisdiele/
LOCATION:Alte Eisdiele\, Heinrichstrasse 44\, Lachen-Speyerdorf\, 67435\, Germany
CATEGORIES:Allgemein
ATTACH;FMTTYPE=image/png:https://alte-eisdiele.de/wp-content/uploads/2026/03/AE_OffeneAE_Terminbild-1600px.png
END:VEVENT
BEGIN:VEVENT
DTSTART;TZID=Europe/Berlin:20260518T193000
DTEND;TZID=Europe/Berlin:20260518T210000
DTSTAMP:20260420T125327
CREATED:20260303T153409Z
LAST-MODIFIED:20260303T153410Z
UID:754-1779132600-1779138000@alte-eisdiele.de
SUMMARY:Gemeinschaftliches Wohnen
DESCRIPTION:
URL:https://alte-eisdiele.de/angebot/gemeinschaftliches-wohnen/
LOCATION:Alte Eisdiele\, Heinrichstrasse 44\, Lachen-Speyerdorf\, 67435\, Germany
CATEGORIES:Beratung
ATTACH;FMTTYPE=image/png:https://alte-eisdiele.de/wp-content/uploads/2026/02/AE_Wohnen_Logo_1200px.png
END:VEVENT
BEGIN:VEVENT
DTSTART;TZID=Europe/Berlin:20260520T093000
DTEND;TZID=Europe/Berlin:20260520T113000
DTSTAMP:20260420T125327
CREATED:20260331T094313Z
LAST-MODIFIED:20260331T094757Z
UID:971-1779269400-1779276600@alte-eisdiele.de
SUMMARY:Frühstückstreff
DESCRIPTION:Zurzeit nicht im Arbeitsleben?Egal aus welchem Grund – Sie sind herzlich willkommen. \n\n\n\nBei einem gemeinsamen Frühstück ist Raum für Begegnung\, Austausch und neue Kontakte. \n\n\n\nOffen. Unkompliziert. In Gemeinschaft.
URL:https://alte-eisdiele.de/angebot/fruehstueckstreff/
LOCATION:Alte Eisdiele\, Heinrichstrasse 44\, Lachen-Speyerdorf\, 67435\, Germany
CATEGORIES:Offene Begenung
ATTACH;FMTTYPE=image/jpeg:https://alte-eisdiele.de/wp-content/uploads/2026/03/AE_Arbeit_HP_Terminbild-1600_1600px.jpg
ORGANIZER;CN="Regina Wilhelm":MAILTO:arbeitswelt@bistum-speyer.de
END:VEVENT
BEGIN:VEVENT
DTSTART;TZID=Europe/Berlin:20260520T193000
DTEND;TZID=Europe/Berlin:20260520T210000
DTSTAMP:20260420T125327
CREATED:20260303T153600Z
LAST-MODIFIED:20260417T060027Z
UID:756-1779305400-1779310800@alte-eisdiele.de
SUMMARY:Zwischen den Zeilen
DESCRIPTION:Offener Buchclub \n\n\n\nWir besprechen das Buch des Monats: Wolf Küper „Ein Million Minuten“
URL:https://alte-eisdiele.de/angebot/zwischen-den-zeilen-3/
LOCATION:Alte Eisdiele\, Heinrichstrasse 44\, Lachen-Speyerdorf\, 67435\, Germany
CATEGORIES:Offene Begenung
ATTACH;FMTTYPE=image/png:https://alte-eisdiele.de/wp-content/uploads/2026/02/AE_BC_Terminbild_1600px.png
END:VEVENT
BEGIN:VEVENT
DTSTART;TZID=Europe/Berlin:20260521T170000
DTEND;TZID=Europe/Berlin:20260521T200000
DTSTAMP:20260420T125327
CREATED:20260303T153936Z
LAST-MODIFIED:20260410T081304Z
UID:760-1779382800-1779393600@alte-eisdiele.de
SUMMARY:Meet @ Alte Eisdiele
DESCRIPTION:Grillen & Chillen
URL:https://alte-eisdiele.de/angebot/meet-alte-eisdiele-3/
LOCATION:Alte Eisdiele\, Heinrichstrasse 44\, Lachen-Speyerdorf\, 67435\, Germany
CATEGORIES:Offene Begenung
ATTACH;FMTTYPE=image/jpeg:https://alte-eisdiele.de/wp-content/uploads/2026/02/AE_Meet_HPL_500px.jpg
END:VEVENT
BEGIN:VEVENT
DTSTART;TZID=Europe/Berlin:20260522T150000
DTEND;TZID=Europe/Berlin:20260522T170000
DTSTAMP:20260420T125327
CREATED:20260319T150651Z
LAST-MODIFIED:20260319T150653Z
UID:873-1779462000-1779469200@alte-eisdiele.de
SUMMARY:Plauderbank
DESCRIPTION:Begegnung – Austausch – Zuhören
URL:https://alte-eisdiele.de/angebot/plauderbank-4/
LOCATION:Friedhof Lachen-Speyerdorf\, Goethestraße 37\, Lachen-Speyerdorf\, 67435\, Germany
CATEGORIES:Offene Begenung
ATTACH;FMTTYPE=image/jpeg:https://alte-eisdiele.de/wp-content/uploads/2026/03/AE_Plauderbank_HP_TerminBild.jpg
END:VEVENT
BEGIN:VEVENT
DTSTART;TZID=Europe/Berlin:20260528T173000
DTEND;TZID=Europe/Berlin:20260528T181500
DTSTAMP:20260420T125327
CREATED:20260303T153747Z
LAST-MODIFIED:20260303T153748Z
UID:758-1779989400-1779992100@alte-eisdiele.de
SUMMARY:Zwischen_Halt
DESCRIPTION:Thema wird noch bekanntgegeben
URL:https://alte-eisdiele.de/angebot/zwischen_halt-5/
LOCATION:Alte Eisdiele\, Heinrichstrasse 44\, Lachen-Speyerdorf\, 67435\, Germany
CATEGORIES:Männerkreis
ATTACH;FMTTYPE=image/png:https://alte-eisdiele.de/wp-content/uploads/2026/02/AE_ZH_HP_Terminbild.png
END:VEVENT
END:VCALENDAR