BEGIN:VCALENDAR
VERSION:2.0
PRODID:-//Alte Eisdiele - ECPv6.15.16//NONSGML v1.0//EN
CALSCALE:GREGORIAN
METHOD:PUBLISH
X-WR-CALNAME:Alte Eisdiele
X-ORIGINAL-URL:https://alte-eisdiele.de
X-WR-CALDESC:Veranstaltungen für Alte Eisdiele
REFRESH-INTERVAL;VALUE=DURATION:PT1H
X-Robots-Tag:noindex
X-PUBLISHED-TTL:PT1H
BEGIN:VTIMEZONE
TZID:Europe/Berlin
BEGIN:DAYLIGHT
TZOFFSETFROM:+0100
TZOFFSETTO:+0200
TZNAME:CEST
DTSTART:20250330T010000
END:DAYLIGHT
BEGIN:STANDARD
TZOFFSETFROM:+0200
TZOFFSETTO:+0100
TZNAME:CET
DTSTART:20251026T010000
END:STANDARD
BEGIN:DAYLIGHT
TZOFFSETFROM:+0100
TZOFFSETTO:+0200
TZNAME:CEST
DTSTART:20260329T010000
END:DAYLIGHT
BEGIN:STANDARD
TZOFFSETFROM:+0200
TZOFFSETTO:+0100
TZNAME:CET
DTSTART:20261025T010000
END:STANDARD
BEGIN:DAYLIGHT
TZOFFSETFROM:+0100
TZOFFSETTO:+0200
TZNAME:CEST
DTSTART:20270328T010000
END:DAYLIGHT
BEGIN:STANDARD
TZOFFSETFROM:+0200
TZOFFSETTO:+0100
TZNAME:CET
DTSTART:20271031T010000
END:STANDARD
END:VTIMEZONE
BEGIN:VEVENT
DTSTART;TZID=Europe/Berlin:20260421T180000
DTEND;TZID=Europe/Berlin:20260421T190000
DTSTAMP:20260420T063021
CREATED:20260303T121526Z
LAST-MODIFIED:20260303T121527Z
UID:742-1776794400-1776798000@alte-eisdiele.de
SUMMARY:Tanz doch ...
DESCRIPTION:Achtung: die Veranstaltung findet im Pfarrsaal Heilig Kreuz statt.
URL:https://alte-eisdiele.de/angebot/tanz-doch-2/
LOCATION:Pfarrsaal Heilig Kreuz\, Goethestr. 21\, Lachen-Speyerdorf\, 67435\, Germany
CATEGORIES:Lebensfreude
ATTACH;FMTTYPE=image/png:https://alte-eisdiele.de/wp-content/uploads/2026/02/AE_Tanz_TerminBild_1600px.png
END:VEVENT
BEGIN:VEVENT
DTSTART;TZID=Europe/Berlin:20260423T170000
DTEND;TZID=Europe/Berlin:20260423T181500
DTSTAMP:20260420T063021
CREATED:20260303T121700Z
LAST-MODIFIED:20260303T121702Z
UID:744-1776963600-1776968100@alte-eisdiele.de
SUMMARY:Zwischen_Halt
DESCRIPTION:Thema wird noch bekanntgegeben
URL:https://alte-eisdiele.de/angebot/zwischen_halt-4/
LOCATION:Alte Eisdiele\, Heinrichstrasse 44\, Lachen-Speyerdorf\, 67435\, Germany
CATEGORIES:Männerkreis
ATTACH;FMTTYPE=image/png:https://alte-eisdiele.de/wp-content/uploads/2026/02/AE_ZH_HP_Terminbild.png
END:VEVENT
BEGIN:VEVENT
DTSTART;TZID=Europe/Berlin:20260424T150000
DTEND;TZID=Europe/Berlin:20260424T170000
DTSTAMP:20260420T063021
CREATED:20260319T150345Z
LAST-MODIFIED:20260319T150347Z
UID:869-1777042800-1777050000@alte-eisdiele.de
SUMMARY:Plauderbank
DESCRIPTION:Begegnung – Austausch – Zuhören
URL:https://alte-eisdiele.de/angebot/plauderbank-2/
LOCATION:Friedhof Lachen-Speyerdorf\, Goethestraße 37\, Lachen-Speyerdorf\, 67435\, Germany
CATEGORIES:Offene Begenung
ATTACH;FMTTYPE=image/jpeg:https://alte-eisdiele.de/wp-content/uploads/2026/03/AE_Plauderbank_HP_TerminBild.jpg
END:VEVENT
BEGIN:VEVENT
DTSTART;TZID=Europe/Berlin:20260428T143000
DTEND;TZID=Europe/Berlin:20260428T163000
DTSTAMP:20260420T063021
CREATED:20260403T073729Z
LAST-MODIFIED:20260403T073731Z
UID:1025-1777386600-1777393800@alte-eisdiele.de
SUMMARY:Bastelspaß
DESCRIPTION:Es wird kreativ – wir basteln Tiere aus TonpapierKomm vorbei! \n\n\n\nMaterialien sind vorhanden –die Teilnahme ist kostenfrei.Kleine Bastelfans bitte in Begleitung
URL:https://alte-eisdiele.de/angebot/bastelspass/
LOCATION:Alte Eisdiele\, Heinrichstrasse 44\, Lachen-Speyerdorf\, 67435\, Germany
CATEGORIES:Kreativität
ATTACH;FMTTYPE=image/jpeg:https://alte-eisdiele.de/wp-content/uploads/2026/04/AE_Basteln_HP_Terminbild_2.jpg
END:VEVENT
END:VCALENDAR