BEGIN:VCALENDAR
VERSION:2.0
PRODID:-//Alte Eisdiele - ECPv6.15.16//NONSGML v1.0//EN
CALSCALE:GREGORIAN
METHOD:PUBLISH
X-WR-CALNAME:Alte Eisdiele
X-ORIGINAL-URL:https://alte-eisdiele.de
X-WR-CALDESC:Veranstaltungen für Alte Eisdiele
REFRESH-INTERVAL;VALUE=DURATION:PT1H
X-Robots-Tag:noindex
X-PUBLISHED-TTL:PT1H
BEGIN:VTIMEZONE
TZID:Europe/Berlin
BEGIN:DAYLIGHT
TZOFFSETFROM:+0100
TZOFFSETTO:+0200
TZNAME:CEST
DTSTART:20250330T010000
END:DAYLIGHT
BEGIN:STANDARD
TZOFFSETFROM:+0200
TZOFFSETTO:+0100
TZNAME:CET
DTSTART:20251026T010000
END:STANDARD
BEGIN:DAYLIGHT
TZOFFSETFROM:+0100
TZOFFSETTO:+0200
TZNAME:CEST
DTSTART:20260329T010000
END:DAYLIGHT
BEGIN:STANDARD
TZOFFSETFROM:+0200
TZOFFSETTO:+0100
TZNAME:CET
DTSTART:20261025T010000
END:STANDARD
BEGIN:DAYLIGHT
TZOFFSETFROM:+0100
TZOFFSETTO:+0200
TZNAME:CEST
DTSTART:20270328T010000
END:DAYLIGHT
BEGIN:STANDARD
TZOFFSETFROM:+0200
TZOFFSETTO:+0100
TZNAME:CET
DTSTART:20271031T010000
END:STANDARD
END:VTIMEZONE
BEGIN:VEVENT
DTSTART;TZID=Europe/Berlin:20260409T173000
DTEND;TZID=Europe/Berlin:20260409T181500
DTSTAMP:20260420T125539
CREATED:20260303T113949Z
LAST-MODIFIED:20260303T113950Z
UID:731-1775755800-1775758500@alte-eisdiele.de
SUMMARY:Zwischen_Halt
DESCRIPTION:Thema wird noch bekannt gegeben
URL:https://alte-eisdiele.de/angebot/zwischen_halt-3/
LOCATION:Alte Eisdiele\, Heinrichstrasse 44\, Lachen-Speyerdorf\, 67435\, Germany
CATEGORIES:Männerkreis
ATTACH;FMTTYPE=image/png:https://alte-eisdiele.de/wp-content/uploads/2026/02/AE_ZH_HP_Terminbild.png
END:VEVENT
END:VCALENDAR