BEGIN:VCALENDAR
VERSION:2.0
PRODID:-//Alte Eisdiele - ECPv6.15.16//NONSGML v1.0//EN
CALSCALE:GREGORIAN
METHOD:PUBLISH
X-WR-CALNAME:Alte Eisdiele
X-ORIGINAL-URL:https://alte-eisdiele.de
X-WR-CALDESC:Veranstaltungen für Alte Eisdiele
REFRESH-INTERVAL;VALUE=DURATION:PT1H
X-Robots-Tag:noindex
X-PUBLISHED-TTL:PT1H
BEGIN:VTIMEZONE
TZID:Europe/Berlin
BEGIN:DAYLIGHT
TZOFFSETFROM:+0100
TZOFFSETTO:+0200
TZNAME:CEST
DTSTART:20250330T010000
END:DAYLIGHT
BEGIN:STANDARD
TZOFFSETFROM:+0200
TZOFFSETTO:+0100
TZNAME:CET
DTSTART:20251026T010000
END:STANDARD
BEGIN:DAYLIGHT
TZOFFSETFROM:+0100
TZOFFSETTO:+0200
TZNAME:CEST
DTSTART:20260329T010000
END:DAYLIGHT
BEGIN:STANDARD
TZOFFSETFROM:+0200
TZOFFSETTO:+0100
TZNAME:CET
DTSTART:20261025T010000
END:STANDARD
BEGIN:DAYLIGHT
TZOFFSETFROM:+0100
TZOFFSETTO:+0200
TZNAME:CEST
DTSTART:20270328T010000
END:DAYLIGHT
BEGIN:STANDARD
TZOFFSETFROM:+0200
TZOFFSETTO:+0100
TZNAME:CET
DTSTART:20271031T010000
END:STANDARD
END:VTIMEZONE
BEGIN:VEVENT
DTSTART;TZID=Europe/Berlin:20260326T143000
DTEND;TZID=Europe/Berlin:20260326T163000
DTSTAMP:20260420T144007
CREATED:20260310T132344Z
LAST-MODIFIED:20260310T132511Z
UID:796-1774535400-1774542600@alte-eisdiele.de
SUMMARY:Bastelspaß rund ums Ei
DESCRIPTION:Materialien sind vorhanden – einfach mitmachen\, die Teilnahme ist kostenfrei.Für Jung und Alt. Kinder bitte in Begleitung.Gemeinsam basteln wir bunte Osterdekorationen und lassen unserer Kreativität freien Lauf.
URL:https://alte-eisdiele.de/angebot/bastelspass-rund-ums-ei/
LOCATION:Alte Eisdiele\, Heinrichstrasse 44\, Lachen-Speyerdorf\, 67435\, Germany
CATEGORIES:Kreativität
ATTACH;FMTTYPE=image/png:https://alte-eisdiele.de/wp-content/uploads/2026/03/AE_Basteln_HP_Terminbild.png
END:VEVENT
BEGIN:VEVENT
DTSTART;TZID=Europe/Berlin:20260326T173000
DTEND;TZID=Europe/Berlin:20260326T181500
DTSTAMP:20260420T144007
CREATED:20260219T130055Z
LAST-MODIFIED:20260302T015954Z
UID:509-1774546200-1774548900@alte-eisdiele.de
SUMMARY:Zwischen_Halt
DESCRIPTION:aus der Themenreihe Geschichten aus der Geschichte (und was man daraus lernen kann) : Das Handelsdefizit Chinas mit Europa 1830 – 1860 
URL:https://alte-eisdiele.de/angebot/zwischen_halt-2/
LOCATION:Alte Eisdiele\, Heinrichstrasse 44\, Lachen-Speyerdorf\, 67435\, Germany
CATEGORIES:Männerkreis
ATTACH;FMTTYPE=image/png:https://alte-eisdiele.de/wp-content/uploads/2026/02/AE_ZH_HP_Terminbild.png
END:VEVENT
END:VCALENDAR