BEGIN:VCALENDAR
VERSION:2.0
PRODID:-//Alte Eisdiele - ECPv6.15.16//NONSGML v1.0//EN
CALSCALE:GREGORIAN
METHOD:PUBLISH
X-WR-CALNAME:Alte Eisdiele
X-ORIGINAL-URL:https://alte-eisdiele.de
X-WR-CALDESC:Veranstaltungen für Alte Eisdiele
REFRESH-INTERVAL;VALUE=DURATION:PT1H
X-Robots-Tag:noindex
X-PUBLISHED-TTL:PT1H
BEGIN:VTIMEZONE
TZID:Europe/Berlin
BEGIN:DAYLIGHT
TZOFFSETFROM:+0100
TZOFFSETTO:+0200
TZNAME:CEST
DTSTART:20250330T010000
END:DAYLIGHT
BEGIN:STANDARD
TZOFFSETFROM:+0200
TZOFFSETTO:+0100
TZNAME:CET
DTSTART:20251026T010000
END:STANDARD
BEGIN:DAYLIGHT
TZOFFSETFROM:+0100
TZOFFSETTO:+0200
TZNAME:CEST
DTSTART:20260329T010000
END:DAYLIGHT
BEGIN:STANDARD
TZOFFSETFROM:+0200
TZOFFSETTO:+0100
TZNAME:CET
DTSTART:20261025T010000
END:STANDARD
BEGIN:DAYLIGHT
TZOFFSETFROM:+0100
TZOFFSETTO:+0200
TZNAME:CEST
DTSTART:20270328T010000
END:DAYLIGHT
BEGIN:STANDARD
TZOFFSETFROM:+0200
TZOFFSETTO:+0100
TZNAME:CET
DTSTART:20271031T010000
END:STANDARD
END:VTIMEZONE
BEGIN:VEVENT
DTSTART;TZID=Europe/Berlin:20260325T070000
DTEND;TZID=Europe/Berlin:20260325T080000
DTSTAMP:20260420T144009
CREATED:20260302T134156Z
LAST-MODIFIED:20260302T134157Z
UID:686-1774422000-1774425600@alte-eisdiele.de
SUMMARY:Stille Momente
DESCRIPTION:Zwischen stillen Momenten und einer warmen Tasse Kaffee in Ruhe den Tag beginnen
URL:https://alte-eisdiele.de/angebot/stille-momente-2/
LOCATION:Alte Eisdiele\, Heinrichstrasse 44\, Lachen-Speyerdorf\, 67435\, Germany
CATEGORIES:Stille
ATTACH;FMTTYPE=image/png:https://alte-eisdiele.de/wp-content/uploads/2026/02/AE_HP_Terminbild_800px.png
END:VEVENT
END:VCALENDAR